BEGIN:VCALENDAR
VERSION:2.0
PRODID:icalendar-ruby
CALSCALE:GREGORIAN
METHOD:PUBLISH
BEGIN:VEVENT
DTSTAMP:20260425T134937Z
UID:20-2814021@kodiakbiblechapel.com
DTSTART:20240126T033000Z
DTEND:20240126T060000Z
CLASS:PUBLIC
CREATED:20260425T053751
DESCRIPTION:
LAST-MODIFIED:20260425T053751
LOCATION:2305 Beaver Lake Dr.
SUMMARY:Young Adult Women's Bible Study
URL;VALUE=URI:https://www.kodiakbiblechapel.com/events/young-adult-womens-b
 ible-study/2024-01-25
ATTACH;FILENAME=_Women%27s-Bible-Study-%281%29.jpg;FMTTYPE=image/jpeg:https
 ://dq5pwpg1q8ru0.cloudfront.net/2025/10/14/21/24/48/2e47bf79-0654-4614-ad3
 1-955f17abbc52/_Women%2527s-Bible-Study-%25281%2529.jpg
END:VEVENT
END:VCALENDAR
