BEGIN:VCALENDAR
VERSION:2.0
PRODID:icalendar-ruby
CALSCALE:GREGORIAN
METHOD:PUBLISH
BEGIN:VEVENT
DTSTAMP:20260424T122436Z
UID:112-2804155@kodiakbiblechapel.com
DTSTART:20260930T030000Z
DTEND:20260930T043000Z
CLASS:PUBLIC
CREATED:20260424T030122
DESCRIPTION:
LAST-MODIFIED:20260424T030122
LOCATION:Kodiak Bible Chapel 416 Island Lake Rd.
SUMMARY:Middle School Youth Group
URL;VALUE=URI:https://www.kodiakbiblechapel.com/events/middle-school-youth-
 group--112/2026-09-29
ATTACH;FILENAME=mIDDLE-SCHOOL.jpg;FMTTYPE=image/jpeg:https://dq5pwpg1q8ru0.
 cloudfront.net/2025/10/14/22/14/44/e15cbc32-485e-4c55-aef6-bc099458289a/mI
 DDLE-SCHOOL.jpg
END:VEVENT
END:VCALENDAR
